BEGIN:VCALENDAR
VERSION:2.0
PRODID:-//Blue Mountain Christian Retreat - ECPv6.15.20//NONSGML v1.0//EN
CALSCALE:GREGORIAN
METHOD:PUBLISH
X-ORIGINAL-URL:https://www.bmcr.org
X-WR-CALDESC:Events for Blue Mountain Christian Retreat
REFRESH-INTERVAL;VALUE=DURATION:PT1H
X-Robots-Tag:noindex
X-PUBLISHED-TTL:PT1H
BEGIN:VTIMEZONE
TZID:America/New_York
BEGIN:DAYLIGHT
TZOFFSETFROM:-0500
TZOFFSETTO:-0400
TZNAME:EDT
DTSTART:20250309T070000
END:DAYLIGHT
BEGIN:STANDARD
TZOFFSETFROM:-0400
TZOFFSETTO:-0500
TZNAME:EST
DTSTART:20251102T060000
END:STANDARD
BEGIN:DAYLIGHT
TZOFFSETFROM:-0500
TZOFFSETTO:-0400
TZNAME:EDT
DTSTART:20260308T070000
END:DAYLIGHT
BEGIN:STANDARD
TZOFFSETFROM:-0400
TZOFFSETTO:-0500
TZNAME:EST
DTSTART:20261101T060000
END:STANDARD
BEGIN:DAYLIGHT
TZOFFSETFROM:-0500
TZOFFSETTO:-0400
TZNAME:EDT
DTSTART:20270314T070000
END:DAYLIGHT
BEGIN:STANDARD
TZOFFSETFROM:-0400
TZOFFSETTO:-0500
TZNAME:EST
DTSTART:20271107T060000
END:STANDARD
END:VTIMEZONE
BEGIN:VEVENT
DTSTART;TZID=America/New_York:20260327T190000
DTEND;TZID=America/New_York:20260329T130000
DTSTAMP:20260421T181322
CREATED:20251107T181533Z
LAST-MODIFIED:20260320T190149Z
UID:10000056-1774638000-1774789200@www.bmcr.org
SUMMARY:Marriage Retreat Weekend
DESCRIPTION:Marriage Retreat Weekend –  (Partner’s Hall) \nInvest in your marriage and take time to grow together in Christ during this special weekend designed to strengthen\, encourage\, and renew your covenant. Through biblical teaching\, fellowship\, and intentional time together\, couples will be refreshed and equipped to build marriages that honor God.\nRegistration required for this event\nFor more information\, or to book your package: (570) 386-2154\nA one-night deposit is required at the time of booking. Remaining balance is due at check-in.\nTheme: Marriage Enrichment God’s Way! \nTo Book a Package- (570) 386-2154 (A 1-night deposit is required) \nCouples pricing for Bedroom: $419 (deposit would be $104.50) balance not due until check-in\n• 3 days & 2 nights stay\n• 1 full Bedroom\n• 1 Bathroom\n• 5 meals\, Sat. B L D\, Sunday B L \nCouples pricing for Efficiencies: $474.00 (deposit would be $132.00) balance not due until check-in\n• 3 Days 2 nights stay\n• Efficiency rooms are a mixture of 1 full bd/single bd\n• 1 bathroom\n• Small kitchenette\n• 5 meals\, Sat. B L D\, Sunday B L \nFor more information Contact:\nLiz Johnson- 267 980-5472\nHuett Johnson- 215 479-4902
URL:https://www.bmcr.org/by-date/marriage-retreat-weekend/
ATTACH;FMTTYPE=image/jpeg:https://www.bmcr.org/wp-content/uploads/2025/11/Marriage-Weekend-2026.jpg
END:VEVENT
END:VCALENDAR