BEGIN:VCALENDAR
VERSION:2.0
PRODID:-//Blue Mountain Christian Retreat - ECPv6.15.20//NONSGML v1.0//EN
CALSCALE:GREGORIAN
METHOD:PUBLISH
X-ORIGINAL-URL:https://www.bmcr.org
X-WR-CALDESC:Events for Blue Mountain Christian Retreat
REFRESH-INTERVAL;VALUE=DURATION:PT1H
X-Robots-Tag:noindex
X-PUBLISHED-TTL:PT1H
BEGIN:VTIMEZONE
TZID:America/New_York
BEGIN:DAYLIGHT
TZOFFSETFROM:-0500
TZOFFSETTO:-0400
TZNAME:EDT
DTSTART:20250309T070000
END:DAYLIGHT
BEGIN:STANDARD
TZOFFSETFROM:-0400
TZOFFSETTO:-0500
TZNAME:EST
DTSTART:20251102T060000
END:STANDARD
BEGIN:DAYLIGHT
TZOFFSETFROM:-0500
TZOFFSETTO:-0400
TZNAME:EDT
DTSTART:20260308T070000
END:DAYLIGHT
BEGIN:STANDARD
TZOFFSETFROM:-0400
TZOFFSETTO:-0500
TZNAME:EST
DTSTART:20261101T060000
END:STANDARD
BEGIN:DAYLIGHT
TZOFFSETFROM:-0500
TZOFFSETTO:-0400
TZNAME:EDT
DTSTART:20270314T070000
END:DAYLIGHT
BEGIN:STANDARD
TZOFFSETFROM:-0400
TZOFFSETTO:-0500
TZNAME:EST
DTSTART:20271107T060000
END:STANDARD
END:VTIMEZONE
BEGIN:VEVENT
DTSTART;TZID=America/New_York:20260714T100000
DTEND;TZID=America/New_York:20260719T130000
DTSTAMP:20260421T201159
CREATED:20211111T050749Z
LAST-MODIFIED:20260319T192735Z
UID:10000031-1784023200-1784466000@www.bmcr.org
SUMMARY:Family Week- Dr. Lynn Lucas & Pastor Steve Edlin
DESCRIPTION:Bring the family for an amazing week of fun\, rest\, worship and engaging services\, with Dr. Lynn Lucas & Pastor Steve Edlin\, that will draw your whole family closer to the Lord!  Enjoy the swimming pool\, hiking trails\, sports fields\, gymnasium\, campfires and more!  Make blessed family memories to last a lifetime.  Call 570-386-2154 to register or to book your room. \n  \nLynn is the Senior Pastor of Fountainhead Congregation in East Northport\, NY. She holds Doctorate degrees in ministry and theology and has a passion for expounding the scriptures in understandable and revelatory ways. Her ministry has seen countless lives healed and delivered and has taken her to every corner of the United States. Lynn co-authored the book “No Longer a Victim” with Dr. Burton Stokes.  She has a wonderful way of bringing joy and laughter during her teaching times. \n  \n  \n \nReverends Steve and Darla Edlin are senior pastors of Faith Temple Church in Rochester\, NY since 2005. Faith Temple Church is purposefully a multi-generational\, multi-cultural church reaching the Rochester community with congregation-driven soul winning\, healings\, and miracles on a weekly basis. The weekly Monday prayer meetings are the cornerstone of the church’s success. In 1986\, Steve and Darla met at Zion Bible Institute in Barrington\, Rhode Island\, now Northpoint Bible College\, and married in 1989. They have served in ministry for 29 years\, and are the proud parents of three children\, ages 21\,17\, and 16. Steve and Darla’s passion for worship and music has been a constant thread connecting the various parts of their ministry. They have written numerous songs\, produced two CD’s\, and raised up many musicians and worship leaders throughout their years of ministry. They have also produced numerous drama’s and musicals\, written and directed by Darla\, which have brought thousands of souls to salvation. Steve and Darla are also the President and Vice-President of Destiny Christian School\, which serves children from pre-k to grade 12. The school is built on three pillars that teach all students how to pray\, how to defend their faith\, and how to succeed academically. Realizing that over 70% of Christian children are at risk of walking away from their faith after age 14\, Steve and Darla have committed to turn no child away for finances\, so every child can attend regardless of their family circumstance. Currently over 50% of the students receive significant financial aid. They believe the children in their community are one of the greatest mission fields worth investing into. \nSCHEDULE:\nT U E S D A Y:\n7:00am: Prayer meeting in the Fireside Building – all are welcome!\n10:00am: Service\n12:00pm: Lunch\n1:00pm-4pm: Free time (Pool Open)\n4:00pm: Check in\n5:00pm: Dinner\n7:00pm: Service\n9:30pm: Free time (Grill & Chill Open After Service)\n11:00pm: Curfew \nW E D N E S D A Y:\n7:00am: Prayer meeting in the Fireside Building – all are welcome!\n8:00am: Breakfast\n10:00am: Service\n12:00pm: Lunch\n1:00pm-4pm: Free time (Pool Open)\n5:00pm: Dinner\n7:00pm: Service\n9:30pm: Free Time (Grill & Chill Open After Service)\n11:00pm: Curfew \nT H U R S D A Y:\n7:00am: Prayer meeting in the Fireside Building – all are welcome!\n8:00am: Breakfast\n10:00am: Service\n12:00pm: Lunch\n1:00pm-4pm: Free time (Pool Open)\n5:00pm: Dinner\n7:00pm: Service\n9:30pm: Free Time (Grill & Chill Open After Service)\n11:00pm: Curfew \nF R I D A Y:\n7:00am: Prayer meeting in the Fireside Building – all are welcome!\n8:00am: Breakfast\n10:00am: Service\n12:00pm: Lunch\n1:00pm-4pm: Free time (Pool Open)\n5:00pm: Dinner\n7:00pm: Service\n9:30pm: Free Time (Grill & Chill Open After Service)\n11:00pm: Curfew \nS A T U R D A Y:\n8:00am: Breakfast\n10:00am: Service\n12:00pm: Lunch\n1:00pm-4pm: Free time (Pool Open)\n5:00pm: Dinner\n7:00pm: Service\n9:30pm: Free Time (Grill & Chill Open After Service)\n11:00pm: Curfew \nS U N D A Y:\n8:00am: Breakfast\n10:00am: Service\n12:00pm: Lunch \n\nMay your time at BMCR bring you great blessings!
URL:https://www.bmcr.org/by-date/family-week-dr-lynn-lucas-pastor-steve-edlin/
LOCATION:Blue Mountain Christian Retreat\, 1 Christian Lane\, New Ringgold\, PA\, 17960\, United States
ATTACH;FMTTYPE=image/jpeg:https://www.bmcr.org/wp-content/uploads/2026/02/Lucas-Edlin.jpg
END:VEVENT
END:VCALENDAR