BEGIN:VCALENDAR
VERSION:2.0
PRODID:-//Blue Mountain Christian Retreat - ECPv6.15.20//NONSGML v1.0//EN
CALSCALE:GREGORIAN
METHOD:PUBLISH
X-WR-CALNAME:Blue Mountain Christian Retreat
X-ORIGINAL-URL:https://www.bmcr.org
X-WR-CALDESC:Events for Blue Mountain Christian Retreat
REFRESH-INTERVAL;VALUE=DURATION:PT1H
X-Robots-Tag:noindex
X-PUBLISHED-TTL:PT1H
BEGIN:VTIMEZONE
TZID:America/New_York
BEGIN:DAYLIGHT
TZOFFSETFROM:-0500
TZOFFSETTO:-0400
TZNAME:EDT
DTSTART:20250309T070000
END:DAYLIGHT
BEGIN:STANDARD
TZOFFSETFROM:-0400
TZOFFSETTO:-0500
TZNAME:EST
DTSTART:20251102T060000
END:STANDARD
BEGIN:DAYLIGHT
TZOFFSETFROM:-0500
TZOFFSETTO:-0400
TZNAME:EDT
DTSTART:20260308T070000
END:DAYLIGHT
BEGIN:STANDARD
TZOFFSETFROM:-0400
TZOFFSETTO:-0500
TZNAME:EST
DTSTART:20261101T060000
END:STANDARD
BEGIN:DAYLIGHT
TZOFFSETFROM:-0500
TZOFFSETTO:-0400
TZNAME:EDT
DTSTART:20270314T070000
END:DAYLIGHT
BEGIN:STANDARD
TZOFFSETFROM:-0400
TZOFFSETTO:-0500
TZNAME:EST
DTSTART:20271107T060000
END:STANDARD
END:VTIMEZONE
BEGIN:VEVENT
DTSTART;TZID=America/New_York:20261016T190000
DTEND;TZID=America/New_York:20261018T100000
DTSTAMP:20260422T012356
CREATED:20211111T052136Z
LAST-MODIFIED:20260319T193412Z
UID:10000037-1792177200-1792317600@www.bmcr.org
SUMMARY:Fall Women’s Conference with Darla Edlin
DESCRIPTION:Call 570-386-2154 to register or book a room. \nLadies\, treat yourself to a relaxing and blessed weekend away! Enjoy powerful worship\, refreshing laughter\, engaging teaching\, good food and time for relaxing\, friends and fun.  Renew your body and soul with time at Blue Mountain Christian Retreat. \nWe are thrilled to welcome Pastor Darla J. Edlin as our speaker.  Pastor Darla is an ordained minister at Faith Church in Rochester\, NY\, where she serves alongside her husband\, Rev. Stephen G. Edlin.  She is a passionate worship leader for over 25 years\, a songwriter\, author\, and drama director.  Darla is known for her heart to see people walk in their God-given identity and purpose.  We are looking forward to her powerful ministry! \nHere’s a little additional information about Pastor Darla J. Edlin.  She pastors alongside her husband\, Rev. Stephen G. Edlin\, Senior Pastor\, at Faith Church in Rochester\, NY.  They met at Zion Bible Institute in Barrington\, Rhode Island\, were married in 1989 and have been serving at Faith Church ever since.  She has been in full-time ministry for over 25 years\, and has three beautiful adult children and 1 son-in-love: Tyler Edlin\, Kaci and Anaji Powell\, and Colin Edlin.   Serving as a Worship Leader for over 25 years\, she has written songs\, as well as “A Life of Worship: A Study Guide of Psalms” for the Worship Department.   She is also Drama Director and has written and directed plays including “Light of the World”\, “The Azusa Experience” and “The Countdown I\, II\, III”.  She is an author of four books: A Mom’s prayer\, Declarations for Victory\, God Is and Declarations for Identity.  She has a hunger and passion for worship as well as seeing people reach their destiny. \nWe look forward to seeing you refreshed and renewed! \n\nSCHEDULE:\nF R I D A Y:\n2:00pm: Check in\n7:00pm: Service\n9:30pm: Free time (Grill & Chill Snack Shop open)\n11:00pm: Curfew \nS A T U R D A Y:\n8:00am: Breakfast\n10:00am: Service\n12:00pm: Lunch\n1:00pm-5:00pm: Free time\n5:00pm: Dinner\n7:00pm: Service\n9:30pm: Free time (Grill & Chill Snack Shop open)\n11:00pm: Curfew \nS U N D A Y:\n8:00am: Breakfast\n10:00am: Service\n12:00pm: Lunch
URL:https://www.bmcr.org/by-date/fall-womens-conference/
LOCATION:Blue Mountain Christian Retreat\, 1 Christian Lane\, New Ringgold\, PA\, 17960\, United States
ATTACH;FMTTYPE=image/jpeg:https://www.bmcr.org/wp-content/uploads/2026/02/Edlin-Women.jpg
END:VEVENT
END:VCALENDAR