BEGIN:VCALENDAR
VERSION:2.0
PRODID:-//Blue Mountain Christian Retreat - ECPv6.15.20//NONSGML v1.0//EN
CALSCALE:GREGORIAN
METHOD:PUBLISH
X-WR-CALNAME:Blue Mountain Christian Retreat
X-ORIGINAL-URL:https://www.bmcr.org
X-WR-CALDESC:Events for Blue Mountain Christian Retreat
REFRESH-INTERVAL;VALUE=DURATION:PT1H
X-Robots-Tag:noindex
X-PUBLISHED-TTL:PT1H
BEGIN:VTIMEZONE
TZID:America/New_York
BEGIN:DAYLIGHT
TZOFFSETFROM:-0500
TZOFFSETTO:-0400
TZNAME:EDT
DTSTART:20250309T070000
END:DAYLIGHT
BEGIN:STANDARD
TZOFFSETFROM:-0400
TZOFFSETTO:-0500
TZNAME:EST
DTSTART:20251102T060000
END:STANDARD
BEGIN:DAYLIGHT
TZOFFSETFROM:-0500
TZOFFSETTO:-0400
TZNAME:EDT
DTSTART:20260308T070000
END:DAYLIGHT
BEGIN:STANDARD
TZOFFSETFROM:-0400
TZOFFSETTO:-0500
TZNAME:EST
DTSTART:20261101T060000
END:STANDARD
BEGIN:DAYLIGHT
TZOFFSETFROM:-0500
TZOFFSETTO:-0400
TZNAME:EDT
DTSTART:20270314T070000
END:DAYLIGHT
BEGIN:STANDARD
TZOFFSETFROM:-0400
TZOFFSETTO:-0500
TZNAME:EST
DTSTART:20271107T060000
END:STANDARD
END:VTIMEZONE
BEGIN:VEVENT
DTSTART;TZID=America/New_York:20260314T170000
DTEND;TZID=America/New_York:20260314T203000
DTSTAMP:20260421T185244
CREATED:20211206T175423Z
LAST-MODIFIED:20260309T163432Z
UID:10000045-1773507600-1773520200@www.bmcr.org
SUMMARY:Dinner & Worship Night
DESCRIPTION:JOIN US for food\, fellowship and worship!    \nEnjoy dinner with us at 5pm (unlimited buffet $22.25 adults/teens and $14.75 children(4-12)) and stay for fellowship and worship.\nIf coming for dinner\, PLEASE call the office to make a reservation – 570-386-2154  \nWORSHIP begins at 7pm in the Main Sanctuary. Come to dinner and worship or just come to worship. Either way\, we want to see you here on the mountain!\n \nIsiah 2:3 “Come\, let us go up to the mountain of the Lord\, to the temple of the God of Jacob. He will teach us his ways\, so that we may walk in his paths.” Praise the Lord!  \nPsalm 95:1-3 Come\, let us sing for joy to the Lord\, let us shout aloud to the Rock of our salvation. Let us come before him with thanksgiving and extol him with music and song. For the Lord is the great God\, the great King above all gods.
URL:https://www.bmcr.org/by-date/worship-night-bmcr/
LOCATION:Blue Mountain Christian Retreat\, 1 Christian Lane\, New Ringgold\, PA\, 17960\, United States
ATTACH;FMTTYPE=image/jpeg:https://www.bmcr.org/wp-content/uploads/2022/11/Join-us-for-Dinner-Worship-Nights-at-BMCR-3.jpg
END:VEVENT
END:VCALENDAR