BEGIN:VCALENDAR
VERSION:2.0
PRODID:-//Blue Mountain Christian Retreat - ECPv6.15.20//NONSGML v1.0//EN
CALSCALE:GREGORIAN
METHOD:PUBLISH
X-ORIGINAL-URL:https://www.bmcr.org
X-WR-CALDESC:Events for Blue Mountain Christian Retreat
REFRESH-INTERVAL;VALUE=DURATION:PT1H
X-Robots-Tag:noindex
X-PUBLISHED-TTL:PT1H
BEGIN:VTIMEZONE
TZID:America/New_York
BEGIN:DAYLIGHT
TZOFFSETFROM:-0500
TZOFFSETTO:-0400
TZNAME:EDT
DTSTART:20250309T070000
END:DAYLIGHT
BEGIN:STANDARD
TZOFFSETFROM:-0400
TZOFFSETTO:-0500
TZNAME:EST
DTSTART:20251102T060000
END:STANDARD
BEGIN:DAYLIGHT
TZOFFSETFROM:-0500
TZOFFSETTO:-0400
TZNAME:EDT
DTSTART:20260308T070000
END:DAYLIGHT
BEGIN:STANDARD
TZOFFSETFROM:-0400
TZOFFSETTO:-0500
TZNAME:EST
DTSTART:20261101T060000
END:STANDARD
BEGIN:DAYLIGHT
TZOFFSETFROM:-0500
TZOFFSETTO:-0400
TZNAME:EDT
DTSTART:20270314T070000
END:DAYLIGHT
BEGIN:STANDARD
TZOFFSETFROM:-0400
TZOFFSETTO:-0500
TZNAME:EST
DTSTART:20271107T060000
END:STANDARD
END:VTIMEZONE
BEGIN:VEVENT
DTSTART;TZID=America/New_York:20260904T190000
DTEND;TZID=America/New_York:20260907T130000
DTSTAMP:20260421T220224
CREATED:20211111T051440Z
LAST-MODIFIED:20260402T162521Z
UID:10000033-1788548400-1788786000@www.bmcr.org
SUMMARY:Labor Day Weekend- Dr. Charles Brooks
DESCRIPTION:Call 570-386-2154 to register or book a room. \nACTIVATE \n“A moment to “Encounter God” through prophetic worship\, word\, and impartation.” – Charles Brooks \nDuring Your Time Away You Will: \n\nGive God all glory and honor through heartfelt worship\nBe challenged and transformed through God’s Word\nConnect and fellowship with the family for Christ (welcome to the family reunion)\n\nAbout our speaker Charles Brooks: \nDr. Charles Brooks\, Jr. brings three decades of leadership experience within the Body of Christ\, serving as a respected prophetic voice and seasoned ministry leader. He currently serves as Executive Pastor at Faith Christian Church & International Outreach Center in Warrenton\, Virginia\, where he ministers under the leadership of Bishop/Dr. Decker H. Tapscott\, Sr. \nIn addition to his pastoral role\, he contributes to the broader Christian community through service on organizational boards\, including as a Board Member at Aidan University in Longwood\, Florida. Widely sought after for his insight and experience\, he regularly teaches\, speaks at conferences\, and consults with diverse audiences across cultural\, denominational\, and generational lines. \nDr. Brooks is the founder of The Activation Room; a leadership network committed to equipping both emerging and established fivefold ministry leaders to advance the Kingdom of God. He holds a Doctor of Ministry in Christian Education and a Master of Arts in Theological Studies from Aidan University\, as well as a Bachelor of Arts in Pastoral Ministry from Logos University in Jacksonville\, Florida. \nHe resides in Bealeton\, Virginia\, with his wife\, Crystal\, and their two daughters\, Chaeli and Samara. \nYour Weekend Includes: \n\n6 Holy Spirit–filled services\n8 delicious meals (for purchase)\nRefreshing free time to rest\, renew\, and reconnect\n\nDuring Free Time\, Enjoy: \n\nQuiet prayer rooms\nShopping in our Gift & bookstore\nBird watching or fishing at our private pond\nHiking scenic mountain trails\nIndoor and outdoor gym activities\nPeaceful campus with prayer benches with breathtaking views\nFellowship in our lounge or Grill-n-Chill\nThrifting in our Blessing Shop\nOr simply resting in the room prepared just for you\n\nF R I D A Y:\n2:00pm: Check in\n7:00pm: Service\n9:30pm: Free time (Grill & Chill snack shop open)\n11:00pm: Curfew \nS A T U R D A Y:\n8:00am: Breakfast\n10:00am: Service\n12:00pm: Lunch\n1:00pm-4:00pm: Free time (Pool Open)\n5:00pm: Dinner\n7:00pm: Service\n9:30pm: Free Time (Grill & Chill snack shop open)\n11:00pm: Curfew \nS U N D A Y:\n8:00am: Breakfast\n10:00am: Service\n12:00pm: Lunch\n1:00pm-4:00pm: Free time (Pool Open)\n5:00pm: Dinner\n7:00pm: Service\n9:30pm: Free Time\n11:00pm: Curfew \nM O N D A Y:\n8:00am: Breakfast\n10:00am: Service\n12:00pm: Lunch \nMay your time at BMCR bring you great blessings
URL:https://www.bmcr.org/by-date/labor-day-weekend-charles-brooks-jr/
LOCATION:Blue Mountain Christian Retreat\, 1 Christian Lane\, New Ringgold\, PA\, 17960\, United States
ATTACH;FMTTYPE=image/jpeg:https://www.bmcr.org/wp-content/uploads/2026/02/Charles-Brooks.jpg
END:VEVENT
BEGIN:VEVENT
DTSTART;TZID=America/New_York:20260911T190000
DTEND;TZID=America/New_York:20260913T100000
DTSTAMP:20260421T220224
CREATED:20211111T051616Z
LAST-MODIFIED:20260319T191205Z
UID:10000034-1789153200-1789293600@www.bmcr.org
SUMMARY:Fall Women’s Weekend- Jodi Seidler
DESCRIPTION:Blue Mountain Christian Retreat – A Destination for Transformation \nEncounter Jesus in a real and life-changing way – Call 570-386-2154 to register or book a room. \nTogether\, we’ll lean into what it looks like to: \n\nFall more in love with God\nStep into the impact we were created to make\nMove beyond inspiration into genuine transformation\n\nThroughout the gathering\, women can expect to be both deeply encouraged and lovingly challenged through Jodi’s teaching. She’ll speak about faith in a way that feels practical and personal\, connecting everyday life to God’s bigger story and reminding each woman that she carries purpose right where she is. There will be moments to reflect\, moments to laugh\, and moments to respond to what God is stirring. \nWomen will leave refreshed\, equipped\, and reminded that their lives matter deeply to God and that He desires to work in and through them in powerful ways long after the conference ends. \nAbout our speaker Jodi Seidler: \nJodi has a passion to see people fall more in love with Jesus. She is a graduate of Elim Bible Institute & College and Chesapeake Bible College & Seminary. Jodi and her husband Alex met at EBI&C and got married in 2009.  She has been involved with evangelism\, discipleship\, and church planting. She has spoken at leadership\, women’s\, young adult\, & youth conferences & events.  She is currently the stateside Director for The Gateway Project and the Founder and Director of Jodi Renee Creative Co. \nYour Weekend Includes: \n\n4 Holy Spirit–filled services\n5 delicious meals (for purchase)\nRefreshing free time to rest\, renew\, and reconnect\n\nDuring Free Time\, Enjoy: \n\nQuiet prayer rooms\nShopping in our Gift & bookstore\nBird watching or fishing at our private pond\nHiking scenic mountain trails\nIndoor and outdoor gym activities\nPeaceful campus with prayer benches with breathtaking views\nFellowship in our lounge or Grill-n-Chill\nThrifting in our Blessing Shop\nOr simply resting in the room prepared just for you\n\n\nSCHEDULE:\nF R I D A Y:\n2:00pm: Check in\n7:00pm: Service\n9:30pm: Free time (Grill & Chill snack shop open)\n11:00pm: Curfew \nS A T U R D A Y:\n8:00am: Breakfast\n10:00am: Service\n12:00pm: Lunch\n1:00pm-5:00pm: Free time\n5:00pm: Dinner\n7:00pm: Service\n9:30pm: Free Time (Grill & Chill snack shop open)\n11:00pm: Curfew \nS U N D A Y:\n8:00am: Breakfast\n10:00am: Service\n12:00pm: Lunch
URL:https://www.bmcr.org/by-date/fall-womens-weekend-jodi-seidler/
LOCATION:Blue Mountain Christian Retreat\, 1 Christian Lane\, New Ringgold\, PA\, 17960\, United States
ATTACH;FMTTYPE=image/jpeg:https://www.bmcr.org/wp-content/uploads/2026/02/Seidler-Women.jpg
END:VEVENT
BEGIN:VEVENT
DTSTART;TZID=America/New_York:20260918T190000
DTEND;TZID=America/New_York:20260920T100000
DTSTAMP:20260421T220224
CREATED:20211111T051754Z
LAST-MODIFIED:20260319T191132Z
UID:10000035-1789758000-1789898400@www.bmcr.org
SUMMARY:Fall Weekend- with Pastor Ray Barnard
DESCRIPTION:Bring the whole family for an amazing get-away at Blue Mountain Christian Retreat! Relax\, play\, worship and grow closer to Jesus together. Call 570-386-2154 to register or book a room.  We have fun activities and engaging worship services\, with Pastor Ray Barnard\, for families of all sizes and ages! Enjoy a weekend that will make memories to last a lifetime! \nThe story of Pastor Ray Barnard began as one of destiny demanding to be fulfilled. Raised in a God-fearing family\, living next door to the church that was made possible in part by his family donating the land – he had no choice but to be in church every Sunday. Thus a strong foundation was laid for the plan\, purpose and direction his life was to take. Pastor Ray lost both his parents at a very early age. Things were not easy\, but he was able to capture a vision for his life. \nAs a young man growing up\, he came to know and understand the value of work\, focus\, discipline\, and commitment to a goal. An exceptional athlete\, Pastor Barnard ranked as an All-City and All-District football and basketball player. This would set the “stage” for public exposure. His early life played a critical role for God’s call and commission: to teach the Word of Faith and to Create A People Who Can Not Be Destroyed. \nPastor Ray and his wife Tracey\, started Impacting Your World Christian Center from their home\, with eleven people\, chairs borrowed from the YMCA\, and a 2-channel soundboard along with their home stereo system. Today\, Impacting Your World Christian Center is a thriving church seated on ten acres in Cherry Hill\, NJ. Pastor Ray is committed to preaching the Gospel of the Kingdom beyond the church walls. He is a sought after global speaker – motivating and empowering secular and church conference attendees. Pastor Barnard has ministered in Africa\, the Commonwealth of The Bahamas\, Europe\, India\, the British and U.S. Virgin Islands\, Mexico and Panama. He has also hosted various television and radio programs throughout his ministry. Pastor Ray is married to Pastor Tracey Barnard and they have one beautiful daughter\, Rayna Elise\, who is the joy and delight of her parents. \nW e e k e n d   S c h e d u l e :\nFRIDAY:\n2:00pm Check in\n7:00pm Service\n9:00pm Free Time (Grill & Chill Snack Shop Open)\n11:00pm Curfew\nSATURDAY:\n8:00am Breakfast\n10:00am Service\n12:00pm Lunch\n1:00pm-5:00pm Free Time\n5:00pm Dinner\n7:00pm Service\n9:00pm Free Time (Grill & Chill Snack Shop Open)\n11:00pm Curfew\nSUNDAY:\n8:00am Breakfast\n10:00am Service\n12:00pm Dinner\nCall to book your reservation today! 570-386-2154
URL:https://www.bmcr.org/by-date/fall-weekend-pastor-ray-barnard/
LOCATION:Blue Mountain Christian Retreat\, 1 Christian Lane\, New Ringgold\, PA\, 17960\, United States
ATTACH;FMTTYPE=image/jpeg:https://www.bmcr.org/wp-content/uploads/2026/02/Barnard-Family.jpg
END:VEVENT
BEGIN:VEVENT
DTSTART;TZID=America/New_York:20260925T190000
DTEND;TZID=America/New_York:20260927T100000
DTSTAMP:20260421T220224
CREATED:20211111T051949Z
LAST-MODIFIED:20260323T165335Z
UID:10000036-1790362800-1790503200@www.bmcr.org
SUMMARY:Men’s Conference - Rev. Peter DeArruda
DESCRIPTION:  \nMen\, treat yourselves to an amazing get-away at Blue Mountain Christian Retreat! Relax\, enjoy sports\, hiking\, worship and grow closer to God with inspiring worship and Bible teaching with Rev. Peter DeArruda. Enjoy a weekend that will restore your soul!  Call 570-386-2154 to register or book a room. \nRev. Peter DeArruda is an ordained minister in New York City\, where he and his wife\, Darleen\, have served as urban missionaries for the past 37 years with the New York School of Urban Ministry.  Rev. DeArruda became Elim Fellowships’ first Home Missionaries in 1987 and serves on the Council of Elders Board for Elim Fellowship\, Lima\, NY.  He became the Executive Vice President of NYSUM in 1994 and was elected as NYSUM’S President in 2017. He studied at Zion Bible Institute\, graduated from Elim Bible Institute in 1980\, and earned his B.A. degree in religion & philosophy from Houghton College in 1981.  He has served the body of Christ for over 43 years in diverse ministry capacities\, including youth pastor\, pastor\, evangelist\, and urban missionary. \nSince 1987\, he has been actively spearheading and leading urban outreaches and evangelism training with the New York School of Urban Ministry.  He has been instrumental in bringing vision and challenge to city churches in mobilizing the body of Christ for urban ministry.  He is a Bible teacher in several ethnic NYC churches and an instructor at NYSUM. \nRev. DeArruda provides leadership for those coming to New York City to be trained in ministry from other mega-cities throughout the U.S. and Canada—to motivate and equip churches to reclaim their own city for Christ!  He also serves as a mentor in urban ministry for many local churches in New York City\, providing support\, resources\, and guidance to urban pastors and churches through years of relationship and experience. \nHe has traveled and spoken in several foreign countries for pastors’ conferences\, crusades\, and church meetings.  As a missionary to New York City\, he is a speaker for mission conferences\, men’s retreats\, crusades in the United States\, and urban centers worldwide. \nPeter is happily married to his wife\, Darleen\, of 43 years\, and has two beautiful daughters. \nKurtis Parks is the Worship Pastor at Destination Church in Hopewell\, VA. He leads the worship and songwriting team with Destination Worship. \nKurtis is a church planter\, music producer\, a two time author\, and has written over 1200 songs. \nFrom 2010-2017\, he was the worship director at National Community Church\, a multi-site church led by Pastor and NY Times best-selling author Mark Batterson in the Washington DC area. \nHe founded NCC Worship\, the music team made up of nearly 150 singers and musicians\, signed with Integrity Music.  Some may recognize him as a top 50 finalist on American Idol’s fourth season. \nKurtis has also appeared on the Fox Morning Show\, BET’s Bobby Jones Gospel Hour\, and his song “Forever Changed”\, written for his beloved Virginia Tech community after the April 2007 tragedy was featured on NBC News and CNN. He was also a VH1 “Song of the Year” finalist with his song “Everything That You Are.” His song “Burn it All Down” hit Billboard’s Hot Gospel top 20\, written with Joel Buckner\, fellow worship leader.  Parks was one of the featured worship leaders and writers on “ONE a Worship Collective”\, which hit #1 on Soundscan in its first week. \nMany of his worship choruses are being sung around the world in churches every weekend. Kurtis is the author of two books for worship teams and leaders – “Sound Check” (released with David C Cook) and most recently “Worshipology” (released with Core Media). \nHe is also the host of the weekly podcast Worshipology\, featuring interviews with pastors\, songwriters and worship leaders. His heart is to equip worship leaders and pastors everywhere. \nKurtis is married to Sarah\, and they live in the DC area with their two kids\, Norah and Moses\, and their three-legged dog Lilah. \nSCHEDULE:\nF R I D A Y:\n2:00pm: Check in\n7:00pm: Service\n9:30pm: Free time (Grill & Chill snack shop open)\n11:00pm: Curfew \nS A T U R D A Y:\n8:00am: Breakfast\n10:00am: Service\n12:00pm: Lunch\n1:00pm-5:00pm: Free time\n5:00pm: Dinner\n7:00pm: Service\n9:30pm: Free time (Grill & Chill snack shop open)\n11:00pm: Curfew \nS U N D A Y:\n8:00am: Breakfast\n10:00am: Service\n12:00pm: Lunch
URL:https://www.bmcr.org/by-date/mens-conference/
LOCATION:Blue Mountain Christian Retreat\, 1 Christian Lane\, New Ringgold\, PA\, 17960\, United States
ATTACH;FMTTYPE=image/jpeg:https://www.bmcr.org/wp-content/uploads/2026/02/Mens-Conference.jpg
END:VEVENT
BEGIN:VEVENT
DTSTART;TZID=America/New_York:20261016T190000
DTEND;TZID=America/New_York:20261018T100000
DTSTAMP:20260421T220224
CREATED:20211111T052136Z
LAST-MODIFIED:20260319T193412Z
UID:10000037-1792177200-1792317600@www.bmcr.org
SUMMARY:Fall Women’s Conference with Darla Edlin
DESCRIPTION:Call 570-386-2154 to register or book a room. \nLadies\, treat yourself to a relaxing and blessed weekend away! Enjoy powerful worship\, refreshing laughter\, engaging teaching\, good food and time for relaxing\, friends and fun.  Renew your body and soul with time at Blue Mountain Christian Retreat. \nWe are thrilled to welcome Pastor Darla J. Edlin as our speaker.  Pastor Darla is an ordained minister at Faith Church in Rochester\, NY\, where she serves alongside her husband\, Rev. Stephen G. Edlin.  She is a passionate worship leader for over 25 years\, a songwriter\, author\, and drama director.  Darla is known for her heart to see people walk in their God-given identity and purpose.  We are looking forward to her powerful ministry! \nHere’s a little additional information about Pastor Darla J. Edlin.  She pastors alongside her husband\, Rev. Stephen G. Edlin\, Senior Pastor\, at Faith Church in Rochester\, NY.  They met at Zion Bible Institute in Barrington\, Rhode Island\, were married in 1989 and have been serving at Faith Church ever since.  She has been in full-time ministry for over 25 years\, and has three beautiful adult children and 1 son-in-love: Tyler Edlin\, Kaci and Anaji Powell\, and Colin Edlin.   Serving as a Worship Leader for over 25 years\, she has written songs\, as well as “A Life of Worship: A Study Guide of Psalms” for the Worship Department.   She is also Drama Director and has written and directed plays including “Light of the World”\, “The Azusa Experience” and “The Countdown I\, II\, III”.  She is an author of four books: A Mom’s prayer\, Declarations for Victory\, God Is and Declarations for Identity.  She has a hunger and passion for worship as well as seeing people reach their destiny. \nWe look forward to seeing you refreshed and renewed! \n\nSCHEDULE:\nF R I D A Y:\n2:00pm: Check in\n7:00pm: Service\n9:30pm: Free time (Grill & Chill Snack Shop open)\n11:00pm: Curfew \nS A T U R D A Y:\n8:00am: Breakfast\n10:00am: Service\n12:00pm: Lunch\n1:00pm-5:00pm: Free time\n5:00pm: Dinner\n7:00pm: Service\n9:30pm: Free time (Grill & Chill Snack Shop open)\n11:00pm: Curfew \nS U N D A Y:\n8:00am: Breakfast\n10:00am: Service\n12:00pm: Lunch
URL:https://www.bmcr.org/by-date/fall-womens-conference/
LOCATION:Blue Mountain Christian Retreat\, 1 Christian Lane\, New Ringgold\, PA\, 17960\, United States
ATTACH;FMTTYPE=image/jpeg:https://www.bmcr.org/wp-content/uploads/2026/02/Edlin-Women.jpg
END:VEVENT
BEGIN:VEVENT
DTSTART;TZID=America/New_York:20261023T190000
DTEND;TZID=America/New_York:20261025T130000
DTSTAMP:20260421T220224
CREATED:20211123T022341Z
LAST-MODIFIED:20260323T161957Z
UID:10000038-1792782000-1792933200@www.bmcr.org
SUMMARY:Fall Youth Weekend
DESCRIPTION:Youth Weekend\nCall 570-386-2154 to register your youth group or book rooms.   \nDiscipleship starts with real intimacy with Christ. \n \nLeaders—grab your youth groups\nFamilies—bring your youth and their friends\nGet ready for a weekend they won’t forget! \nThis isn’t just another event—it’s powerful worship\, high-energy services designed just for YOUth\, and real moments that will challenge and grow your relationship with Jesus. \nDuring free time you can expect: \n\nEpic games\nIncredible food\nMeaningful conversations\nMemories you’ll still be talking about months from now\n\nWe’ll worship loud\, dive deep into God’s Word\, and discover how it connects to everyday life—school\, friendships\, pressure\, purpose… all of it. \nBring your friends. Get excited. Come hungry. Show up ready. \nAbout our speaker Jonny Radcliff: \n \nJonny Radcliff is a Youth Pastor\, Speaker\, and Philadelphia Area Coordinator for NNYM (National Network of Youth Ministries).\nwww.nnym.org/jonny \nHe lives in Pennsylvania (Go Birds) with his amazing wife Sarah and their four awesome kids. \nJonny’s passion is pointing the next generation to Jesus. He believes real discipleship starts with real intimacy with Christ—because no program\, speaker\, or event can change a life unless Jesus is at the center. \nHe’s a kid at heart\, so expect to laugh\, have fun\, and be challenged. Jonny loves Jesus\, loves teens\, and believes that combination is about as good as it gets. \nAbout our worship team -University of Valley Forge Worship team: \n \nWe’ll be led in worship and activities by the ministry team from the University of Valley Forge.  https://valleyforge.edu/ \nYear after year\, they show up ready to serve and consistently model what it looks like to follow Jesus with their whole lives. \nStudents and adults alike are inspired by their authentic worship\, contagious joy\, and genuine servant-hearted leadership. They don’t just lead from the stage—they lead by example. \nWe will spend time together worshipping\, digging in to God’s Word\, applying truth to everyday life and having fun! Bring your friends and get ready to dive in for a great weekend together! \nWe look forward to a super fun and engaging weekend with the youth! \n2026 WEEKEND GROUP PACKAGES:\n(Subject to change)\nAdults (18+) @ $179.50 per person (adult rates may vary based on housing – call for info.)\nTeens (13-17) @ $179.50 per person\nChildren (4-12) @ $140.50 per person **All will be in main activities – no children’s ministry provided**\nIncludes: 2 Nights Lodging\, all events and activities & 6 Meals \nWEEKEND SCHEDULE:\nFRIDAY: \nCheck in – after 2:00pm\n7:00pm: Pizza Party\n7:30pm: Leaders Meet Up @ Upper Dining Hall\n8:00pm: Session 1 @ Sanctuary\n10:00: The Double Feature @ Gym (Grill ‘N’ Chill open)\n11:30pm: Curfew \nSATURDAY: \n \n8:00am: Breakfast\n10:00am: Session 2\n12:00pm: Lunch\n1:00pm: ACTIVTIES(Hiking\,Kickball\,Basketball\,Craft)\n2:30pm: Free time (Grill ‘N’ Chill open 2-3:30pm)\n5:00pm: Dinner\n6:00pm: Leader Meet Up @ Upper Dining Hall\n7:00pm: Session 3 @ Sanctuary\n9pm: Grill ‘N’ Chill Open\n10:00pm: The Double Feature @ Gym\n11:30am: Curfew \nSUNDAY: \n8:00am: Breakfast\n10:00am: Session 4 @ Sanctuary\n12:00pm: Lunch \n \n \n \n \n \nORG
URL:https://www.bmcr.org/by-date/fall-youth-retreat/
LOCATION:Blue Mountain Christian Retreat\, 1 Christian Lane\, New Ringgold\, PA\, 17960\, United States
ATTACH;FMTTYPE=image/jpeg:https://www.bmcr.org/wp-content/uploads/2026/02/Youth-Weekend.jpg
END:VEVENT
BEGIN:VEVENT
DTSTART;TZID=America/New_York:20261105T190000
DTEND;TZID=America/New_York:20261108T120000
DTSTAMP:20260421T220224
CREATED:20211123T022754Z
LAST-MODIFIED:20260323T162104Z
UID:10000039-1793905200-1794139200@www.bmcr.org
SUMMARY:Shachah Worship\, Word & Warfare Ministry (Tambourine\, Dance\, Flag & Sword Instruction)
DESCRIPTION:Bring the whole family for an amazing get-away at Blue Mountain Christian Retreat!  Call 570-386-2154 to register or book a room. Relax\, play\, worship and grow closer to Jesus together. We have fun activities and engaging worship services for groups and families of all sizes and ages! Enjoy a weekend that will make memories to last a lifetime!  Learn Worship\, Word and Spiritual Warfare through tambourine\, flags\, sword and dance.  This truly inspiring weekend will bring you joy and peace of the Lord! \nMichael and Magrate are the founders of Shachah Ministries International. As exuberant worshippers of God\, their burden is to glorify God in the creative ministry and restore it to the body of Christ.\nShachah in Hebrew means Worship “To lay prostrate with face touching the ground.” We are here to share the Joy and Freedom we have found using the Creative Arts as a means to Worship our Lord and Savior.  Our vision is to Redeem the Creative Arts back to the Church where it rightfully belongs and to raise up an army of Holy Worshipers. \nYou will enjoy truths through Scripture for adults and youth\, which can be enjoyed by all. Their team will lead practical workshops in the area of Tambourine\, Dance and Flag Twirling. Resource materials and supplies will be available for sale and are recommended but not required.  The time spent with this team is very powerful and joy filled! \nClick here to visit their website! \nTENTATIVE SCHEDULE (Subject to change) \nBMCR SHACHAH SCHEDULE  \n\n\n\n\n  \n\n\nTHURSDAY \n\n\nFRIDAY \n\n\nSATURDAY \n\n\nSUNDAY \n\n\n\n\n08:00-9:00 \n\n\n  \n\n\nBREAKFAST/ OPEN BOOK TABLE \n  \n\n\nBREAKFAST/ OPEN BOOK TABLE \n\n\nBREAKFAST \n\n\n\n\n09:00-10:00 \n\n\n  \n\n\nWORSHIP  \nWORD: TAMBOURINE \n\n\nWORSHIP  \nWORD: FLAG \n  \n\n\nCHECK-OUT \n\n\n\n\n10:00-12:00 \n\n\n  \n\n\nWORKSHOP: TAMBOURINE (ALL LEVELS) \n  \n\n\nWORKSHOP: FLAG (ALL LEVELS) \n  \n  \n\n\nWORSHIP & WORD \n\n\n\n\n12:00-1:00 \n\n\n  \n\n\nLUNCH/ OPEN BOOK TABLE \n  \n\n\nLUNCH/ OPEN BOOK TABLE \n\n\nLUNCH \n\n\n\n\n1:00-1:30 \n\n\n  \n\n\nDEMO TO MUSIC \n  \n\n\nDEMO TO MUSIC \n\n\n  \n\n\n\n\n1:30-2:30 \n\n\n  \n\n\nWORD: BASIC CHOREOGRAPHY  \n\n\nWORD: LEVITICAL COSTUME  \n  \n\n\n  \n\n\n\n\n2:30-3:30 \n\n\n  \n\n\nWORKSHOP: \nFAN STREAMERS \nTHROW STREAMERS \n\n\nWORKSHOP: \nWAVING FLAG \nTWIRL STREAMERS \n  \n\n\n  \n\n\n\n\n3:30-4:00 \n\n\n  \n\n\nDEMO TO MUSIC \n  \n\n\nDEMO TO MUSIC \n\n\n  \n\n\n\n\n4:00-5:00 \n\n\nOPEN BOOK TABLE \n\n\nWORKSHOP: \nWIM 1 \nFAN DANCE \nPRAISE HANDS \n\n\nWORKSHOP: \nSWORD \nFAN DANCE  \nPRAISE HANDS \n  \n\n\n  \n\n\n\n\n5:00-7:00 \n\n\n  \n\n\nDINNER/ OPEN BOOK TABLE \n  \n\n\nDINNER/ CLOSE BOOK TABLE \n\n\n  \n\n\n\n\n7:00-10:00 \n\n\nWORSHIP \nWORD \nMINISTRY TIME \n\n\nWORSHIP \nWORD \nMINISTRY TIME \n\n\nWORSHIP \nCELEBRATION \nWORD \nMINISTRY TIME \n  \n\n\n 
URL:https://www.bmcr.org/by-date/shachah-ministry-tambourine-dance-and-flag-instruction/
LOCATION:Blue Mountain Christian Retreat\, 1 Christian Lane\, New Ringgold\, PA\, 17960\, United States
ATTACH;FMTTYPE=image/jpeg:https://www.bmcr.org/wp-content/uploads/2026/02/Shachah.jpg
END:VEVENT
END:VCALENDAR