BEGIN:VCALENDAR
VERSION:2.0
PRODID:-//Blue Mountain Christian Retreat - ECPv6.15.20//NONSGML v1.0//EN
CALSCALE:GREGORIAN
METHOD:PUBLISH
X-ORIGINAL-URL:https://www.bmcr.org
X-WR-CALDESC:Events for Blue Mountain Christian Retreat
REFRESH-INTERVAL;VALUE=DURATION:PT1H
X-Robots-Tag:noindex
X-PUBLISHED-TTL:PT1H
BEGIN:VTIMEZONE
TZID:America/New_York
BEGIN:DAYLIGHT
TZOFFSETFROM:-0500
TZOFFSETTO:-0400
TZNAME:EDT
DTSTART:20250309T070000
END:DAYLIGHT
BEGIN:STANDARD
TZOFFSETFROM:-0400
TZOFFSETTO:-0500
TZNAME:EST
DTSTART:20251102T060000
END:STANDARD
BEGIN:DAYLIGHT
TZOFFSETFROM:-0500
TZOFFSETTO:-0400
TZNAME:EDT
DTSTART:20260308T070000
END:DAYLIGHT
BEGIN:STANDARD
TZOFFSETFROM:-0400
TZOFFSETTO:-0500
TZNAME:EST
DTSTART:20261101T060000
END:STANDARD
BEGIN:DAYLIGHT
TZOFFSETFROM:-0500
TZOFFSETTO:-0400
TZNAME:EDT
DTSTART:20270314T070000
END:DAYLIGHT
BEGIN:STANDARD
TZOFFSETFROM:-0400
TZOFFSETTO:-0500
TZNAME:EST
DTSTART:20271107T060000
END:STANDARD
END:VTIMEZONE
BEGIN:VEVENT
DTSTART;TZID=America/New_York:20261023T190000
DTEND;TZID=America/New_York:20261025T130000
DTSTAMP:20260422T184053
CREATED:20211123T022341Z
LAST-MODIFIED:20260323T161957Z
UID:10000038-1792782000-1792933200@www.bmcr.org
SUMMARY:Fall Youth Weekend
DESCRIPTION:Youth Weekend\nCall 570-386-2154 to register your youth group or book rooms.   \nDiscipleship starts with real intimacy with Christ. \n \nLeaders—grab your youth groups\nFamilies—bring your youth and their friends\nGet ready for a weekend they won’t forget! \nThis isn’t just another event—it’s powerful worship\, high-energy services designed just for YOUth\, and real moments that will challenge and grow your relationship with Jesus. \nDuring free time you can expect: \n\nEpic games\nIncredible food\nMeaningful conversations\nMemories you’ll still be talking about months from now\n\nWe’ll worship loud\, dive deep into God’s Word\, and discover how it connects to everyday life—school\, friendships\, pressure\, purpose… all of it. \nBring your friends. Get excited. Come hungry. Show up ready. \nAbout our speaker Jonny Radcliff: \n \nJonny Radcliff is a Youth Pastor\, Speaker\, and Philadelphia Area Coordinator for NNYM (National Network of Youth Ministries).\nwww.nnym.org/jonny \nHe lives in Pennsylvania (Go Birds) with his amazing wife Sarah and their four awesome kids. \nJonny’s passion is pointing the next generation to Jesus. He believes real discipleship starts with real intimacy with Christ—because no program\, speaker\, or event can change a life unless Jesus is at the center. \nHe’s a kid at heart\, so expect to laugh\, have fun\, and be challenged. Jonny loves Jesus\, loves teens\, and believes that combination is about as good as it gets. \nAbout our worship team -University of Valley Forge Worship team: \n \nWe’ll be led in worship and activities by the ministry team from the University of Valley Forge.  https://valleyforge.edu/ \nYear after year\, they show up ready to serve and consistently model what it looks like to follow Jesus with their whole lives. \nStudents and adults alike are inspired by their authentic worship\, contagious joy\, and genuine servant-hearted leadership. They don’t just lead from the stage—they lead by example. \nWe will spend time together worshipping\, digging in to God’s Word\, applying truth to everyday life and having fun! Bring your friends and get ready to dive in for a great weekend together! \nWe look forward to a super fun and engaging weekend with the youth! \n2026 WEEKEND GROUP PACKAGES:\n(Subject to change)\nAdults (18+) @ $179.50 per person (adult rates may vary based on housing – call for info.)\nTeens (13-17) @ $179.50 per person\nChildren (4-12) @ $140.50 per person **All will be in main activities – no children’s ministry provided**\nIncludes: 2 Nights Lodging\, all events and activities & 6 Meals \nWEEKEND SCHEDULE:\nFRIDAY: \nCheck in – after 2:00pm\n7:00pm: Pizza Party\n7:30pm: Leaders Meet Up @ Upper Dining Hall\n8:00pm: Session 1 @ Sanctuary\n10:00: The Double Feature @ Gym (Grill ‘N’ Chill open)\n11:30pm: Curfew \nSATURDAY: \n \n8:00am: Breakfast\n10:00am: Session 2\n12:00pm: Lunch\n1:00pm: ACTIVTIES(Hiking\,Kickball\,Basketball\,Craft)\n2:30pm: Free time (Grill ‘N’ Chill open 2-3:30pm)\n5:00pm: Dinner\n6:00pm: Leader Meet Up @ Upper Dining Hall\n7:00pm: Session 3 @ Sanctuary\n9pm: Grill ‘N’ Chill Open\n10:00pm: The Double Feature @ Gym\n11:30am: Curfew \nSUNDAY: \n8:00am: Breakfast\n10:00am: Session 4 @ Sanctuary\n12:00pm: Lunch \n \n \n \n \n \nORG
URL:https://www.bmcr.org/by-date/fall-youth-retreat/
LOCATION:Blue Mountain Christian Retreat\, 1 Christian Lane\, New Ringgold\, PA\, 17960\, United States
ATTACH;FMTTYPE=image/jpeg:https://www.bmcr.org/wp-content/uploads/2026/02/Youth-Weekend.jpg
END:VEVENT
BEGIN:VEVENT
DTSTART;TZID=America/New_York:20261105T190000
DTEND;TZID=America/New_York:20261108T120000
DTSTAMP:20260422T184053
CREATED:20211123T022754Z
LAST-MODIFIED:20260323T162104Z
UID:10000039-1793905200-1794139200@www.bmcr.org
SUMMARY:Shachah Worship\, Word & Warfare Ministry (Tambourine\, Dance\, Flag & Sword Instruction)
DESCRIPTION:Bring the whole family for an amazing get-away at Blue Mountain Christian Retreat!  Call 570-386-2154 to register or book a room. Relax\, play\, worship and grow closer to Jesus together. We have fun activities and engaging worship services for groups and families of all sizes and ages! Enjoy a weekend that will make memories to last a lifetime!  Learn Worship\, Word and Spiritual Warfare through tambourine\, flags\, sword and dance.  This truly inspiring weekend will bring you joy and peace of the Lord! \nMichael and Magrate are the founders of Shachah Ministries International. As exuberant worshippers of God\, their burden is to glorify God in the creative ministry and restore it to the body of Christ.\nShachah in Hebrew means Worship “To lay prostrate with face touching the ground.” We are here to share the Joy and Freedom we have found using the Creative Arts as a means to Worship our Lord and Savior.  Our vision is to Redeem the Creative Arts back to the Church where it rightfully belongs and to raise up an army of Holy Worshipers. \nYou will enjoy truths through Scripture for adults and youth\, which can be enjoyed by all. Their team will lead practical workshops in the area of Tambourine\, Dance and Flag Twirling. Resource materials and supplies will be available for sale and are recommended but not required.  The time spent with this team is very powerful and joy filled! \nClick here to visit their website! \nTENTATIVE SCHEDULE (Subject to change) \nBMCR SHACHAH SCHEDULE  \n\n\n\n\n  \n\n\nTHURSDAY \n\n\nFRIDAY \n\n\nSATURDAY \n\n\nSUNDAY \n\n\n\n\n08:00-9:00 \n\n\n  \n\n\nBREAKFAST/ OPEN BOOK TABLE \n  \n\n\nBREAKFAST/ OPEN BOOK TABLE \n\n\nBREAKFAST \n\n\n\n\n09:00-10:00 \n\n\n  \n\n\nWORSHIP  \nWORD: TAMBOURINE \n\n\nWORSHIP  \nWORD: FLAG \n  \n\n\nCHECK-OUT \n\n\n\n\n10:00-12:00 \n\n\n  \n\n\nWORKSHOP: TAMBOURINE (ALL LEVELS) \n  \n\n\nWORKSHOP: FLAG (ALL LEVELS) \n  \n  \n\n\nWORSHIP & WORD \n\n\n\n\n12:00-1:00 \n\n\n  \n\n\nLUNCH/ OPEN BOOK TABLE \n  \n\n\nLUNCH/ OPEN BOOK TABLE \n\n\nLUNCH \n\n\n\n\n1:00-1:30 \n\n\n  \n\n\nDEMO TO MUSIC \n  \n\n\nDEMO TO MUSIC \n\n\n  \n\n\n\n\n1:30-2:30 \n\n\n  \n\n\nWORD: BASIC CHOREOGRAPHY  \n\n\nWORD: LEVITICAL COSTUME  \n  \n\n\n  \n\n\n\n\n2:30-3:30 \n\n\n  \n\n\nWORKSHOP: \nFAN STREAMERS \nTHROW STREAMERS \n\n\nWORKSHOP: \nWAVING FLAG \nTWIRL STREAMERS \n  \n\n\n  \n\n\n\n\n3:30-4:00 \n\n\n  \n\n\nDEMO TO MUSIC \n  \n\n\nDEMO TO MUSIC \n\n\n  \n\n\n\n\n4:00-5:00 \n\n\nOPEN BOOK TABLE \n\n\nWORKSHOP: \nWIM 1 \nFAN DANCE \nPRAISE HANDS \n\n\nWORKSHOP: \nSWORD \nFAN DANCE  \nPRAISE HANDS \n  \n\n\n  \n\n\n\n\n5:00-7:00 \n\n\n  \n\n\nDINNER/ OPEN BOOK TABLE \n  \n\n\nDINNER/ CLOSE BOOK TABLE \n\n\n  \n\n\n\n\n7:00-10:00 \n\n\nWORSHIP \nWORD \nMINISTRY TIME \n\n\nWORSHIP \nWORD \nMINISTRY TIME \n\n\nWORSHIP \nCELEBRATION \nWORD \nMINISTRY TIME \n  \n\n\n 
URL:https://www.bmcr.org/by-date/shachah-ministry-tambourine-dance-and-flag-instruction/
LOCATION:Blue Mountain Christian Retreat\, 1 Christian Lane\, New Ringgold\, PA\, 17960\, United States
ATTACH;FMTTYPE=image/jpeg:https://www.bmcr.org/wp-content/uploads/2026/02/Shachah.jpg
END:VEVENT
END:VCALENDAR