BEGIN:VCALENDAR
VERSION:2.0
PRODID:-//Blue Mountain Christian Retreat - ECPv6.15.20//NONSGML v1.0//EN
CALSCALE:GREGORIAN
METHOD:PUBLISH
X-ORIGINAL-URL:https://www.bmcr.org
X-WR-CALDESC:Events for Blue Mountain Christian Retreat
REFRESH-INTERVAL;VALUE=DURATION:PT1H
X-Robots-Tag:noindex
X-PUBLISHED-TTL:PT1H
BEGIN:VTIMEZONE
TZID:America/New_York
BEGIN:DAYLIGHT
TZOFFSETFROM:-0500
TZOFFSETTO:-0400
TZNAME:EDT
DTSTART:20250309T070000
END:DAYLIGHT
BEGIN:STANDARD
TZOFFSETFROM:-0400
TZOFFSETTO:-0500
TZNAME:EST
DTSTART:20251102T060000
END:STANDARD
BEGIN:DAYLIGHT
TZOFFSETFROM:-0500
TZOFFSETTO:-0400
TZNAME:EDT
DTSTART:20260308T070000
END:DAYLIGHT
BEGIN:STANDARD
TZOFFSETFROM:-0400
TZOFFSETTO:-0500
TZNAME:EST
DTSTART:20261101T060000
END:STANDARD
BEGIN:DAYLIGHT
TZOFFSETFROM:-0500
TZOFFSETTO:-0400
TZNAME:EDT
DTSTART:20270314T070000
END:DAYLIGHT
BEGIN:STANDARD
TZOFFSETFROM:-0400
TZOFFSETTO:-0500
TZNAME:EST
DTSTART:20271107T060000
END:STANDARD
END:VTIMEZONE
BEGIN:VEVENT
DTSTART;TZID=America/New_York:20260515T190000
DTEND;TZID=America/New_York:20260517T120000
DTSTAMP:20260421T151706
CREATED:20211111T050158Z
LAST-MODIFIED:20260420T162754Z
UID:10000029-1778871600-1779019200@www.bmcr.org
SUMMARY:Eagles’ Wings FLAME Weekend
DESCRIPTION:Eagles’ Wings and its “FLAME” young adult expression\, under the leadership of Bishop Robert Stearns are coming BACK to the mountain!  Call 570-386-2154 to register or book a room. \nThis year’s Eagles’ Wings weekend will intentionally include the FLAME movement as the next-generation expression within our family-centered gathering. Youth and young adults will engage in worship\, prayer\, and the Word while remaining rooted in the same spiritual covering and shared vision that have guided Eagles’ Wings for the past 33 years. \nEagles’ Wings’ FLAME Weekend reflects generations walking together — families\, leaders\, and the next generation worshiping side by side at the mountain! \n“One generation shall praise Your works to another\, And shall declare Your mighty acts.” Psalm 145:4 \nWe look forward to welcoming you this May. \nMore about Eagles’ Wings: CLICK HERE \nSCHEDULE:\nF R I D A Y:\n2:00pm: Check in\n7:00pm: Service\n9:30pm: Free time (Grill ‘N’ Chill open)\n11:00pm: Curfew \nS A T U R D A Y:\n8:00am: Breakfast\n10:00am: Service\n12:00pm: Lunch\n1:00pm-4:30pm: Free time\n7:00pm: Service\n9:30pm: Free Time (Grill ‘N’ Chill open)\n11:00pm: Curfew \nS U N D A Y:\n8:00am: Breakfast\n10:00am: Service\n12:00pm: Lunch
URL:https://www.bmcr.org/by-date/flame-weekend-eagles-wings-ministries/
LOCATION:Blue Mountain Christian Retreat\, 1 Christian Lane\, New Ringgold\, PA\, 17960\, United States
ATTACH;FMTTYPE=image/jpeg:https://www.bmcr.org/wp-content/uploads/2021/11/EW-Spring.jpg
END:VEVENT
BEGIN:VEVENT
DTSTART;TZID=America/New_York:20260529T190000
DTEND;TZID=America/New_York:20260531T130000
DTSTAMP:20260421T151706
CREATED:20211111T045952Z
LAST-MODIFIED:20260319T193308Z
UID:10000028-1780081200-1780232400@www.bmcr.org
SUMMARY:Spring Women’s Conference- Helen Trowbridge
DESCRIPTION:Blue Mountain Christian Retreat – A Destination for Transformation – Call 570-386-2154 to register or to book your room. \nStep Away to Step In \nStep away from the everyday noise… retreat into the quiet… and hear from God! This is your time to unplug\, refocus\, and draw closer to the Lord. \n“God always took His people to a place\, a destination\, for transformation.  Blue Mountain has always been a destination for transformation.” Helen Trowbridge \nDuring Your Time Away You Will: \n\nGive God all glory and honor through heartfelt worship\nBe challenged and transformed through the reading and teaching of His Word through Helen Trowbridge\nConnect and fellowship with your Sisters in Christ\n\nAbout our speaker Helen Trowbridge: \nHelen Trowbridge has been in full time ministry for almost 50 years.  Graduate of Oral Roberts in music\, her ministry began taking people into the presence of God  and creating an atmosphere  for the Holy Spirit to move through her piano playing and worship and then was ordained to preach the gospel.   She has served in almost every area of the local church\, including associate pastor for 20 years before starting Trowbridge Ministries.   Today her calling is to prepare Gods people for works of service.  AS HE IS IN THIS WORLD\, SO ARE WE.    Focusing on Godly character…. Being and not just doing… the work of the Lord. Her desire is for people to know who they are in God  becoming holy and whole and walk  their purpose  and  destiny.  A word in season \, with a prophetic anointing  that is transforming lives. \nYour Weekend Includes: \n\n4 Holy Spirit–filled services\n5 delicious meals (for purchase)\nRefreshing free time to rest\, renew\, and reconnect\n\nDuring Free Time\, Enjoy: \n\nQuiet prayer rooms\nShopping in our Gift & bookstore\nBird watching or fishing at our private pond\nHiking scenic mountain trails\nIndoor and outdoor gym activities\nPeaceful campus with prayer benches with breathtaking views\nFellowship in our lounge or Grill-n-Chill\nThrifting in our Blessing Shop\nOr simply resting in the room prepared just for you
URL:https://www.bmcr.org/by-date/spring-womens-weekend/
LOCATION:Blue Mountain Christian Retreat\, 1 Christian Lane\, New Ringgold\, PA\, 17960\, United States
ATTACH;FMTTYPE=image/jpeg:https://www.bmcr.org/wp-content/uploads/2021/11/Womens-weekend-Trowbridge.jpg
END:VEVENT
END:VCALENDAR