BEGIN:VCALENDAR
VERSION:2.0
PRODID:-//Blue Mountain Christian Retreat - ECPv6.15.20//NONSGML v1.0//EN
CALSCALE:GREGORIAN
METHOD:PUBLISH
X-WR-CALNAME:Blue Mountain Christian Retreat
X-ORIGINAL-URL:https://www.bmcr.org
X-WR-CALDESC:Events for Blue Mountain Christian Retreat
REFRESH-INTERVAL;VALUE=DURATION:PT1H
X-Robots-Tag:noindex
X-PUBLISHED-TTL:PT1H
BEGIN:VTIMEZONE
TZID:America/New_York
BEGIN:DAYLIGHT
TZOFFSETFROM:-0500
TZOFFSETTO:-0400
TZNAME:EDT
DTSTART:20250309T070000
END:DAYLIGHT
BEGIN:STANDARD
TZOFFSETFROM:-0400
TZOFFSETTO:-0500
TZNAME:EST
DTSTART:20251102T060000
END:STANDARD
BEGIN:DAYLIGHT
TZOFFSETFROM:-0500
TZOFFSETTO:-0400
TZNAME:EDT
DTSTART:20260308T070000
END:DAYLIGHT
BEGIN:STANDARD
TZOFFSETFROM:-0400
TZOFFSETTO:-0500
TZNAME:EST
DTSTART:20261101T060000
END:STANDARD
BEGIN:DAYLIGHT
TZOFFSETFROM:-0500
TZOFFSETTO:-0400
TZNAME:EDT
DTSTART:20270314T070000
END:DAYLIGHT
BEGIN:STANDARD
TZOFFSETFROM:-0400
TZOFFSETTO:-0500
TZNAME:EST
DTSTART:20271107T060000
END:STANDARD
END:VTIMEZONE
BEGIN:VEVENT
DTSTART;TZID=America/New_York:20260707T100000
DTEND;TZID=America/New_York:20260712T120000
DTSTAMP:20260421T183018
CREATED:20211111T050541Z
LAST-MODIFIED:20260323T165442Z
UID:10000030-1783418400-1783857600@www.bmcr.org
SUMMARY:Family Week- Edwin Felicie & Justin D. Elwell
DESCRIPTION:Step Away to Step In – Call 570-386-2154 to register or to book your room. \n“Each year when I return to Blue Mountain\, the Lord reminds me that ministry is sustained by His presence\, not by our effort alone. The retreat becomes a place where leaders and the faithful can slow down\, breathe again\, hear His voice\, and be refreshed in their calling. What I see each year is that when people slow down before the Lord\, He renews vision\, restores weary hearts\, and draws us closer to Him and to one another. It is a time of great blessing.” Justin Elwell \nThis is your time to unplug\, refocus\, and draw closer to the Lord.  Sharpen the Word of God in your spirit \nDeuteronomy 6:7 (ESV) instructs\, “You shall teach them diligently to your children\, and shall talk of them when you sit in your house\, and when you walk by the way\, and when you lie down\, and when you rise.” \nTeach- Impress- Sharpen – Original Word: שָׁנַן Part of Speech: Verb Pronunciation: shah-nan’ \n“For 30 plus years Blue Mountain has done just that for both my children and grandchildren as also for me. And now I have the privilege to speak at this very same place that giants of the faith have shared from their hearts His word. And so for this July my prayer is that I continue this legacy  by presenting His sharpen (impress) word.” Edwin Felicie \nDuring Your Time Away You Will: \n\nGive God all glory and honor through heartfelt worship\nBe challenged and transformed through the reading and teaching of His Word through Edwin Felicie & Justin Elwell\nConnect and fellowship with the family of Christ\n\n \nYour Week Includes: \n\n11 Holy Spirit–filled services\n17 delicious meals (for purchase)\nRefreshing free time to rest\, renew\, and reconnect\n\nDuring Free Time\, Enjoy: \n\nQuiet prayer rooms\nShopping in our Gift & bookstore\nSwim or be baptized in our Pool\nSlide and race down our Slip & Slide\nBird watching or fishing in our private pond\nHiking scenic mountain trails\nIndoor and outdoor gym activities\nPeaceful campus benches with breathtaking views\nFellowship in our lounge or Grill-n-Chill\nThrifting in our Blessing Shop\nOr simply resting in the room prepared just for you\n\nAbout our speaker Dr. Edwin Felicie: \nDr. Edwin Felicie is a graduate of the Timothy Seminary International\, under the internationally known Hebrew scholar Dr. Karl D. Coke\, Chancellor and Director of T.S.I.\, which knowledge of Hebrew and the land of Israel is required throughout its studies. Dr. Felicie is the Chancellor of Timothy Seminary International West and keeping with the vision of the home being the center of Biblical education. \nEdwin Felicie was born and reared in the South Bronx\, NY and served honorably in the United States Army. Edwin Felicie has been married since 1978 to Juanita Amador and has been blessed with six children. \nAbout our speaker Dr. Justin Elwell: \nJustin D. Elwell\, Th.D. is a Messianic Jewish disciple of Messiah Yeshua/Jesus\, serving as the congregational rabbi of Messiah Congregation in New Hartford\, New York. In addition to his congregational responsibilities\, Justin has served and overseen educational institutions training ministers around the world\, as well as care ministries reaching the poor\, the widow and the orphan in India and Kenya. \nJustin has served in ministry for well over twenty years\, pastoring both messianic congregations and traditional churches. He is the Presiding Bishop and Executive Director of Restoration Fellowship International. Justin’s heart in ministry is to reach Jew and Gentile (Romans 1:16) with the message that\, “We have found the One that Moses in the Torah\, and also the prophets\, wrote about – Jesus of Nazareth\, the son of Joseph” (Jn. 1:45). Justin has earned doctorates in Biblical Ethics and New Testament. \nJustin and his wife Renee have been married for thirty years and have two married adult sons. \nMEDIA: Personal: www.themountainmensch.com \nPodcast: https://messiahinlife.buzzsprout.com (has regular listeners in nearly 100 countries) \nRFI: https://www.restorationfellowship.international/ \nSCHEDULE:\nT U E S D A Y:\n7:00am: Prayer meeting in the Fireside Building – all are welcome!\n10:00am: Service\n12:00pm: Lunch\n1:00pm-4pm: Free time (Pool Open)\n4:00pm: Check in\n5:00pm: Dinner\n7:00pm: Service\n9:30pm: Free time (Grill & Chill Open After Service)\n11:00pm: Curfew \nW E D N E S D A Y:\n7:00am: Prayer meeting in the Fireside Building – all are welcome!\n8:00am: Breakfast\n10:00am: Service\n12:00pm: Lunch\n1:00pm-4pm: Free time (Pool Open)\n5:00pm: Dinner\n7:00pm: Service\n9:30pm: Free Time (Grill & Chill Open After Service)\n11:00pm: Curfew \nT H U R S D A Y:\n7:00am: Prayer meeting in the Fireside Building – all are welcome!\n8:00am: Breakfast\n10:00am: Service\n12:00pm: Lunch\n1:00pm-4pm: Free time (Pool Open)\n5:00pm: Dinner\n7:00pm: Service\n9:30pm: Free Time (Grill & Chill Open After Service)\n11:00pm: Curfew \nF R I D A Y:\n7:00am: Prayer meeting in the Fireside Building – all are welcome!\n8:00am: Breakfast\n10:00am: Service\n12:00pm: Lunch\n1:00pm-4pm: Free time (Pool Open)\n5:00pm: Dinner\n7:00pm: Service\n9:30pm: Free Time (Grill & Chill Open After Service)\n11:00pm: Curfew \nS A T U R D A Y:\n8:00am: Breakfast\n10:00am: Service\n12:00pm: Lunch\n1:00pm-4pm: Free time (Pool Open)\n5:00pm: Dinner\n7:00pm: Service\n9:30pm: Free Time (Grill & Chill Open After Service)\n11:00pm: Curfew \nS U N D A Y:\n8:00am: Breakfast\n10:00am: Service\n12:00pm: Lunch \nMay your time at BMCR bring you great blessings!
URL:https://www.bmcr.org/by-date/family-week-edwin-felicie-justin-elwell/
LOCATION:Blue Mountain Christian Retreat\, 1 Christian Lane\, New Ringgold\, PA\, 17960\, United States
ATTACH;FMTTYPE=image/jpeg:https://www.bmcr.org/wp-content/uploads/2026/02/Felicie-Elwell.jpg
END:VEVENT
BEGIN:VEVENT
DTSTART;TZID=America/New_York:20260714T100000
DTEND;TZID=America/New_York:20260719T130000
DTSTAMP:20260421T183018
CREATED:20211111T050749Z
LAST-MODIFIED:20260319T192735Z
UID:10000031-1784023200-1784466000@www.bmcr.org
SUMMARY:Family Week- Dr. Lynn Lucas & Pastor Steve Edlin
DESCRIPTION:Bring the family for an amazing week of fun\, rest\, worship and engaging services\, with Dr. Lynn Lucas & Pastor Steve Edlin\, that will draw your whole family closer to the Lord!  Enjoy the swimming pool\, hiking trails\, sports fields\, gymnasium\, campfires and more!  Make blessed family memories to last a lifetime.  Call 570-386-2154 to register or to book your room. \n  \nLynn is the Senior Pastor of Fountainhead Congregation in East Northport\, NY. She holds Doctorate degrees in ministry and theology and has a passion for expounding the scriptures in understandable and revelatory ways. Her ministry has seen countless lives healed and delivered and has taken her to every corner of the United States. Lynn co-authored the book “No Longer a Victim” with Dr. Burton Stokes.  She has a wonderful way of bringing joy and laughter during her teaching times. \n  \n  \n \nReverends Steve and Darla Edlin are senior pastors of Faith Temple Church in Rochester\, NY since 2005. Faith Temple Church is purposefully a multi-generational\, multi-cultural church reaching the Rochester community with congregation-driven soul winning\, healings\, and miracles on a weekly basis. The weekly Monday prayer meetings are the cornerstone of the church’s success. In 1986\, Steve and Darla met at Zion Bible Institute in Barrington\, Rhode Island\, now Northpoint Bible College\, and married in 1989. They have served in ministry for 29 years\, and are the proud parents of three children\, ages 21\,17\, and 16. Steve and Darla’s passion for worship and music has been a constant thread connecting the various parts of their ministry. They have written numerous songs\, produced two CD’s\, and raised up many musicians and worship leaders throughout their years of ministry. They have also produced numerous drama’s and musicals\, written and directed by Darla\, which have brought thousands of souls to salvation. Steve and Darla are also the President and Vice-President of Destiny Christian School\, which serves children from pre-k to grade 12. The school is built on three pillars that teach all students how to pray\, how to defend their faith\, and how to succeed academically. Realizing that over 70% of Christian children are at risk of walking away from their faith after age 14\, Steve and Darla have committed to turn no child away for finances\, so every child can attend regardless of their family circumstance. Currently over 50% of the students receive significant financial aid. They believe the children in their community are one of the greatest mission fields worth investing into. \nSCHEDULE:\nT U E S D A Y:\n7:00am: Prayer meeting in the Fireside Building – all are welcome!\n10:00am: Service\n12:00pm: Lunch\n1:00pm-4pm: Free time (Pool Open)\n4:00pm: Check in\n5:00pm: Dinner\n7:00pm: Service\n9:30pm: Free time (Grill & Chill Open After Service)\n11:00pm: Curfew \nW E D N E S D A Y:\n7:00am: Prayer meeting in the Fireside Building – all are welcome!\n8:00am: Breakfast\n10:00am: Service\n12:00pm: Lunch\n1:00pm-4pm: Free time (Pool Open)\n5:00pm: Dinner\n7:00pm: Service\n9:30pm: Free Time (Grill & Chill Open After Service)\n11:00pm: Curfew \nT H U R S D A Y:\n7:00am: Prayer meeting in the Fireside Building – all are welcome!\n8:00am: Breakfast\n10:00am: Service\n12:00pm: Lunch\n1:00pm-4pm: Free time (Pool Open)\n5:00pm: Dinner\n7:00pm: Service\n9:30pm: Free Time (Grill & Chill Open After Service)\n11:00pm: Curfew \nF R I D A Y:\n7:00am: Prayer meeting in the Fireside Building – all are welcome!\n8:00am: Breakfast\n10:00am: Service\n12:00pm: Lunch\n1:00pm-4pm: Free time (Pool Open)\n5:00pm: Dinner\n7:00pm: Service\n9:30pm: Free Time (Grill & Chill Open After Service)\n11:00pm: Curfew \nS A T U R D A Y:\n8:00am: Breakfast\n10:00am: Service\n12:00pm: Lunch\n1:00pm-4pm: Free time (Pool Open)\n5:00pm: Dinner\n7:00pm: Service\n9:30pm: Free Time (Grill & Chill Open After Service)\n11:00pm: Curfew \nS U N D A Y:\n8:00am: Breakfast\n10:00am: Service\n12:00pm: Lunch \n\nMay your time at BMCR bring you great blessings!
URL:https://www.bmcr.org/by-date/family-week-dr-lynn-lucas-pastor-steve-edlin/
LOCATION:Blue Mountain Christian Retreat\, 1 Christian Lane\, New Ringgold\, PA\, 17960\, United States
ATTACH;FMTTYPE=image/jpeg:https://www.bmcr.org/wp-content/uploads/2026/02/Lucas-Edlin.jpg
END:VEVENT
BEGIN:VEVENT
DTSTART;TZID=America/New_York:20260721T100000
DTEND;TZID=America/New_York:20260726T120000
DTSTAMP:20260421T183018
CREATED:20211111T051005Z
LAST-MODIFIED:20260319T192658Z
UID:10000032-1784628000-1785067200@www.bmcr.org
SUMMARY:Family Week- Eagles’ Wings Ministries
DESCRIPTION:Blue Mountain Christian Retreat  \nExperience connection personally and spiritually – Call 570-386-2154 to register or to book your room. \nBring the whole family for an unforgettable getaway at Blue Mountain Christian Retreat! Enjoy a week filled with fun\, meaningful fellowship\, and refreshing times of worship as you relax\, play\, and grow closer to God together. \nWith Eagles’ Wings\, families of every age and stage will enjoy engaging worship services\, inspiring teaching\, and plenty of activities designed to help you connect—with God and with one another. It’s the perfect mix of fun\, faith\, and family\, creating memories that will last a lifetime. \nCome away\, be refreshed\, and experience a week your family will never forget. \nDuring Your Time Away You Will: \n\nGive God all glory and honor through heartfelt worship\nBe challenged and transformed through the reading and teaching of His Word through Eagles’ Wings leadership\nConnect and fellowship family of Christ\n\nYour Week Includes: \n\n11 Holy Spirit–filled services\n17 delicious meals (for purchase)\nRefreshing free time to rest\, renew\, and reconnect\n\nDuring Free Time\, Enjoy: \n\nQuiet prayer rooms\nShopping in our Gift & bookstore\nSwim or be baptized in our Pool\nSlide and race down our Slip & Slide\nBird watching or fishing in our private pond\nHiking scenic mountain trails\nIndoor and outdoor gym activities\nPeaceful campus benches with breathtaking views\nFellowship in our lounge or Grill-n-Chill\nThrifting in our Blessing Shop\nOr simply resting in the room prepared just for you\n\nAbout Eagles’ Wings: \nEagles’ Wings is a global ministry dedicated to fostering unity and spiritual awakening in the Body of Christ while strengthening Christian support for Israel and the Jewish people. Through teaching\, worship\, and strategic initiatives\, Eagles’ Wings helps believers rediscover the biblical call to bless Israel and stand in friendship with the Jewish community. The ministry mobilizes Christians around the world to pray for the peace of Jerusalem and to respond in practical ways—through initiatives that provide food and essential supplies for those in need\, emergency medical aid\, and projects such as planting trees to restore the beauty of the land of Israel. Through these efforts\, Eagles’ Wings builds meaningful bridges of friendship\, understanding\, and solidarity between Christians and the Jewish people. \n \nAbout Robert Stearns: \nBishop Robert Stearns is a powerful speaker and musician\, and the founder and president of Eagles’ Wings\, and a recognized leader in strengthening Christian support for Israel and the Jewish people. He has ministered in more than 40 nations\, authored seven books\, and speaks widely in churches and conferences around the world. He is the visionary behind the global prayer movement The Day of Prayer for the Peace of Jerusalem\, now observed by more than 500\,000 churches in over 175 nations\, and also serves as presiding Bishop of the historic Tabernacle in Buffalo\, New York. \n  \n  \n  \n  \n \nSCHEDULE:\nT U E S D A Y:\n7:00am: Prayer meeting in the Fireside Building – all are welcome!\n10:00am: Service\n12:00pm: Lunch\n1:00pm-4pm: Free time (Pool Open)\n4:00pm: Check in\n5:00pm: Dinner\n7:00pm: Service\n9:30pm: Free time (Grill & Chill Open After Service)\n11:00pm: Curfew \nW E D N E S D A Y:\n7:00am: Prayer meeting in the Fireside Building – all are welcome!\n8:00am: Breakfast\n10:00am: Service\n12:00pm: Lunch\n1:00pm-4pm: Free time (Pool Open)\n5:00pm: Dinner\n7:00pm: Service\n9:30pm: Free Time (Grill & Chill Open After Service)\n11:00pm: Curfew \nT H U R S D A Y:\n7:00am: Prayer meeting in the Fireside Building – all are welcome!\n8:00am: Breakfast\n10:00am: Service\n12:00pm: Lunch\n1:00pm-4pm: Free time (Pool Open)\n5:00pm: Dinner\n7:00pm: Service\n9:30pm: Free Time (Grill & Chill Open After Service)\n11:00pm: Curfew \nF R I D A Y:\n7:00am: Prayer meeting in the Fireside Building – all are welcome!\n8:00am: Breakfast\n10:00am: Service\n12:00pm: Lunch\n1:00pm-4pm: Free time (Pool Open)\n5:00pm: Dinner\n7:00pm: Service\n9:30pm: Free Time (Grill & Chill Open After Service)\n11:00pm: Curfew \nS A T U R D A Y:\n8:00am: Breakfast\n10:00am: Service\n12:00pm: Lunch\n12:30pm : Eagles’ Wings Partners Luncheon\n1:00pm-4pm: Free time (Pool Open)\n5:00pm: Dinner\n7:00pm: Service\n9:30pm: Free Time (Grill & Chill Open After Service)\n11:00pm: Curfew \nS U N D A Y:\n8:00am: Breakfast\n10:00am: Service\n12:00pm: Lunch \nMay your time at BMCR bring you great blessings!
URL:https://www.bmcr.org/by-date/family-week-eagles-wings-ministries/
LOCATION:Blue Mountain Christian Retreat\, 1 Christian Lane\, New Ringgold\, PA\, 17960\, United States
ATTACH;FMTTYPE=image/jpeg:https://www.bmcr.org/wp-content/uploads/2026/02/Eagles-Wingls-Family-Week.jpg
END:VEVENT
END:VCALENDAR